BEGIN:VCALENDAR
VERSION:2.0
PRODID:-//wp-events-plugin.com//7.2.3.1//EN
TZID:Europe/Madrid
X-WR-TIMEZONE:Europe/Madrid
BEGIN:VEVENT
UID:2@mycologyconfederation.com
DTSTART;TZID=Europe/Madrid:20260809T000000
DTEND;TZID=Europe/Madrid:20260815T000000
DTSTAMP:20260323T193916Z
URL:https://mycologyconfederation.com/events/cemm-congress-2026/
SUMMARY:CEMM Congress 2026
DESCRIPTION:Now open for registration:   XXXII CEMM-CONGRESS\,  OSLO\, 
 NORWAY  9 – 15\nAUGUST 2026.\nWe are very happy to welcome you to a wee
 k of exploring the Norwegian Funga! August\nshould be good timing for spec
 ies richness and variety\, if the season develops like last years.
CATEGORIES:CEMM
LOCATION:CEMM Oslo\, Rønningen Hostel and Conference (Oslo Folk High Schoo
 l) Myrerskogveien 54\, Oslo\, 0495\, Noruega
X-APPLE-STRUCTURED-LOCATION;VALUE=URI;X-ADDRESS=Rønningen Hostel and Confe
 rence (Oslo Folk High School) Myrerskogveien 54\, Oslo\, 0495\, Noruega;X-
 APPLE-RADIUS=100;X-TITLE=CEMM Oslo:geo:0,0
END:VEVENT
BEGIN:VTIMEZONE
TZID:Europe/Madrid
X-LIC-LOCATION:Europe/Madrid
BEGIN:DAYLIGHT
DTSTART:20260329T030000
TZOFFSETFROM:+0100
TZOFFSETTO:+0200
TZNAME:CEST
END:DAYLIGHT
END:VTIMEZONE
END:VCALENDAR